BEGIN:VCALENDAR
VERSION:2.0
PRODID:-//Réseau Commande Publique Grand Est - ECPv6.15.18//NONSGML v1.0//EN
CALSCALE:GREGORIAN
METHOD:PUBLISH
X-WR-CALNAME:Réseau Commande Publique Grand Est
X-ORIGINAL-URL:https://www.commandepublique-grandest.fr
X-WR-CALDESC:Évènements pour Réseau Commande Publique Grand Est
REFRESH-INTERVAL;VALUE=DURATION:PT1H
X-Robots-Tag:noindex
X-PUBLISHED-TTL:PT1H
BEGIN:VTIMEZONE
TZID:Europe/Paris
BEGIN:DAYLIGHT
TZOFFSETFROM:+0100
TZOFFSETTO:+0200
TZNAME:CEST
DTSTART:20220327T010000
END:DAYLIGHT
BEGIN:STANDARD
TZOFFSETFROM:+0200
TZOFFSETTO:+0100
TZNAME:CET
DTSTART:20221030T010000
END:STANDARD
BEGIN:DAYLIGHT
TZOFFSETFROM:+0100
TZOFFSETTO:+0200
TZNAME:CEST
DTSTART:20230326T010000
END:DAYLIGHT
BEGIN:STANDARD
TZOFFSETFROM:+0200
TZOFFSETTO:+0100
TZNAME:CET
DTSTART:20231029T010000
END:STANDARD
BEGIN:DAYLIGHT
TZOFFSETFROM:+0100
TZOFFSETTO:+0200
TZNAME:CEST
DTSTART:20240331T010000
END:DAYLIGHT
BEGIN:STANDARD
TZOFFSETFROM:+0200
TZOFFSETTO:+0100
TZNAME:CET
DTSTART:20241027T010000
END:STANDARD
END:VTIMEZONE
BEGIN:VEVENT
DTSTART;TZID=Europe/Paris:20230622T093000
DTEND;TZID=Europe/Paris:20230622T120000
DTSTAMP:20260420T083045
CREATED:20230517T081807Z
LAST-MODIFIED:20230517T104147Z
UID:6230-1687426200-1687435200@www.commandepublique-grandest.fr
SUMMARY:« Arthur Tour Grand Est » - Sensibilisation aux achats durables
DESCRIPTION:La Région Grand Est\, l’Ademe\, la DREAL\, la CCI Grand Est\, la CMA Grand Est\, le Réseau CollECtif Grand Est Lorraine et Grand E-Nov+ s’associent pour proposer trois temps de sensibilisation autour des achats durables et des sessions d’entraide entre acheteurs publics. \nAu programme :\n\n9h30-11h30 :  Atelier « Arthur et la quête des achats durables »* pour aborder de manière décalée les différentes facettes de l’achat durable. Cet atelier s’adresse aux acheteurs publics\, aux entreprises et aux agences de développement économique\n11h30-12h00 :  Rappel des dispositifs régionaux d’appui aux acheteurs publics et présentation de la Charte Régionale de la Commande Publique par Grand E-Nov+ et la Région Grand Est\n\nCette journée est organisée lors de l’événement « 360 Grand Est » au Palais de la Musique et des Congrès de Strasbourg. \nVous souhaitez y participer ? \nInscription obligatoire :\nhttps://framaforms.org/arthur-tour-grand-est-1680511058 \nLes participants doivent également s’inscrire à l’événement du 360 Grand Est pour accéder au site https://www.360grandest.fr/fr/content/inscription \n  \n* Qu’est-ce que le jeu “Arthur et la quête des achats durables” \nCe « serious game » collaboratif développé par la Région Grand Est\, la CCI Grand Est et l’Ademe dans le cadre du réseau Climaxion propose d’aborder de manière décalée le sujet des achats durables et tous ses enjeux. Des ateliers de découverte du jeu vont sont proposés pour vous permettre par la suite de sensibiliser/former vous-même d’autres personnes dans vos structures. Ce jeu s’adresse à la fois aux acheteurs publics et aux acheteurs privés. \n  \nRetrouvez également l’événement sur le site CollECtif Grand Est :\nhttps://www.collectif-grandest.org/articles/h/arthur-tour-grand-est.html
URL:https://www.commandepublique-grandest.fr/evenement/arthur-tour-grand-est-strasbourg-67/
LOCATION:Palais de la Musique et des Congrès de Strasbourg\, Place de Bordeaux\, Strasbourg (67)
CATEGORIES:Atelier,Séquence à destination des acheteurs publics
END:VEVENT
END:VCALENDAR