BEGIN:VCALENDAR
VERSION:2.0
PRODID:-//Réseau Commande Publique Grand Est - ECPv6.15.18//NONSGML v1.0//EN
CALSCALE:GREGORIAN
METHOD:PUBLISH
X-WR-CALNAME:Réseau Commande Publique Grand Est
X-ORIGINAL-URL:https://www.commandepublique-grandest.fr
X-WR-CALDESC:Évènements pour Réseau Commande Publique Grand Est
REFRESH-INTERVAL;VALUE=DURATION:PT1H
X-Robots-Tag:noindex
X-PUBLISHED-TTL:PT1H
BEGIN:VTIMEZONE
TZID:Europe/Paris
BEGIN:DAYLIGHT
TZOFFSETFROM:+0100
TZOFFSETTO:+0200
TZNAME:CEST
DTSTART:20220327T010000
END:DAYLIGHT
BEGIN:STANDARD
TZOFFSETFROM:+0200
TZOFFSETTO:+0100
TZNAME:CET
DTSTART:20221030T010000
END:STANDARD
BEGIN:DAYLIGHT
TZOFFSETFROM:+0100
TZOFFSETTO:+0200
TZNAME:CEST
DTSTART:20230326T010000
END:DAYLIGHT
BEGIN:STANDARD
TZOFFSETFROM:+0200
TZOFFSETTO:+0100
TZNAME:CET
DTSTART:20231029T010000
END:STANDARD
BEGIN:DAYLIGHT
TZOFFSETFROM:+0100
TZOFFSETTO:+0200
TZNAME:CEST
DTSTART:20240331T010000
END:DAYLIGHT
BEGIN:STANDARD
TZOFFSETFROM:+0200
TZOFFSETTO:+0100
TZNAME:CET
DTSTART:20241027T010000
END:STANDARD
END:VTIMEZONE
BEGIN:VEVENT
DTSTART;TZID=Europe/Paris:20230203T090000
DTEND;TZID=Europe/Paris:20230203T140000
DTSTAMP:20260420T100257
CREATED:20230119T101709Z
LAST-MODIFIED:20230124T103150Z
UID:5280-1675414800-1675432800@www.commandepublique-grandest.fr
SUMMARY:Rencontre acheteurs bailleurs sociaux #Lorraine
DESCRIPTION:Entrepreneurs et artisans\, découvrez vos futurs chantiers ! \nLa Fédération BTP Moselle vous donne rendez-vous le vendredi 3 février avec les bailleurs sociaux du territoire  \n\n3F GRAND EST\nBATIGERE\nEMH (Eurométropole Metz Habitat)\nMMH (Meurthe-et-Moselle Habitat)\nMOSELIS\nVILOGIA\nVIVEST\nVOSGELIS\n\nVous aurez l’occasion de découvrir de belles opportunités de chantiers de proximité pour vos entreprises : construction\, rénovation de logements\, maintenance… \nUn carnet de commandes assuré\, des paiements sécurisés\, des délais de paiement respectés\, … \n\nDes rendez-vous individuels rapides sont prévus pour présenter vos compétences et votre savoir-faire. \n\n\n\nProgramme\n8h45 : Accueil café \n9h15 : Mot d’introduction \n9h30 : Table ronde « Les marchés publics face à la crise des matériaux et les pratiques en matière de révision/actualisation des prix des marchés » \n10h15 : Présentation de l’outil d’évaluation des surcoûts de construction par l’USH \n10h45 : Présentation de la plateforme APOGE\, du Réseau Commande Publique Grand Est et l’offre d’accompagnement de la CMA Grand Est \n11h00 : Présentation des marchés à venir des organismes Hlm \nDe 12h00 à 14h00 : Rendez-vous individuels bailleurs sociaux/entreprises \nDe 12h30 à 14h00 : Cocktail déjeunatoire \n14h00 : Fin de la manifestation \n  \nParticipation gratuite mais inscription obligatoire avant lundi 30 janvier 2023 : https://lnkd.in/ea2qMxzC
URL:https://www.commandepublique-grandest.fr/evenement/rencontre-acheteurs-bailleurs-sociaux-lorraine/
LOCATION:Foyer des Jeunes Travailleurs et AP’Habitat\, 2 rue Georges Ducrocq\, METZ (57)
CATEGORIES:Rencontre acheteurs
END:VEVENT
END:VCALENDAR