BEGIN:VCALENDAR
VERSION:2.0
PRODID:-//Réseau Commande Publique Grand Est - ECPv6.15.18//NONSGML v1.0//EN
CALSCALE:GREGORIAN
METHOD:PUBLISH
X-WR-CALNAME:Réseau Commande Publique Grand Est
X-ORIGINAL-URL:https://www.commandepublique-grandest.fr
X-WR-CALDESC:Évènements pour Réseau Commande Publique Grand Est
REFRESH-INTERVAL;VALUE=DURATION:PT1H
X-Robots-Tag:noindex
X-PUBLISHED-TTL:PT1H
BEGIN:VTIMEZONE
TZID:Europe/Paris
BEGIN:DAYLIGHT
TZOFFSETFROM:+0100
TZOFFSETTO:+0200
TZNAME:CEST
DTSTART:20240331T010000
END:DAYLIGHT
BEGIN:STANDARD
TZOFFSETFROM:+0200
TZOFFSETTO:+0100
TZNAME:CET
DTSTART:20241027T010000
END:STANDARD
BEGIN:DAYLIGHT
TZOFFSETFROM:+0100
TZOFFSETTO:+0200
TZNAME:CEST
DTSTART:20250330T010000
END:DAYLIGHT
BEGIN:STANDARD
TZOFFSETFROM:+0200
TZOFFSETTO:+0100
TZNAME:CET
DTSTART:20251026T010000
END:STANDARD
BEGIN:DAYLIGHT
TZOFFSETFROM:+0100
TZOFFSETTO:+0200
TZNAME:CEST
DTSTART:20260329T010000
END:DAYLIGHT
BEGIN:STANDARD
TZOFFSETFROM:+0200
TZOFFSETTO:+0100
TZNAME:CET
DTSTART:20261025T010000
END:STANDARD
END:VTIMEZONE
BEGIN:VEVENT
DTSTART;TZID=Europe/Paris:20251106T100000
DTEND;TZID=Europe/Paris:20251106T140000
DTSTAMP:20260423T104134
CREATED:20250925T060037Z
LAST-MODIFIED:20251028T075642Z
UID:10038-1762423200-1762437600@www.commandepublique-grandest.fr
SUMMARY:Rencontre du BTP avec les collectivités locales de #Moselle
DESCRIPTION:Rencontre du BTP\navec les collectivités locales de #Moselle\n\n\n\nle jeudi 6 novembre 2025 de 10h à 14h\nFédération BTP 57 – 3 Rue Jean Antoine Chaptal – 57070 METZ\n\n\nC’est le moment d’élargir votre carnet de commandes !\n\n\nProgramme :\n\n10h00-11h15 : Atelier ” Les critères environnementaux dans les marchés des collectivités locales ”\nDemain\, les appels d’offres intègreront systématiquement des critères environnementaux. Une contrainte ?\nNon : une opportunité pour les artisans/TPE/PME qui sauront valoriser leurs savoir-faire et leurs bonnes pratiques.\nDécouvrez comment en faire un atout pour votre entreprise\,\nAvec les interventions de Gwennaëlle MAZZERO\, Chef de service Marchés Publics à METZ MÉTROPOLE\, Arnaud SPET\, Directeur MATEC et Angèle BADRE\, dirigeante de la société ALU BADRE Sarl à Scy-Chazelles\, etc…\n11h30-14h00 : Rendez-vous d’affaires personnalisés entreprises du BTP avec les collectivités locales du secteur (Communes\, Communautés de Communes\, Département 57) pour :\n\néchanger et faire connaissance avec des acheteurs potentiels\nvaloriser votre savoir-faire\naugmenter ou diversifier votre carnet de commandes\n\n\n12h00 : Cocktail déjeunatoire\n\n  \nListe des acheteurs publics présents :\n\nDépartement de la Moselle\nCommunauté de Communes Mad et Moselle\nEPCI Eurométropole de Metz (leur carnet de RDVs est complet)\nEPCI Portes de France Thionville et Thionville (leur carnet de RDVs est complet)\nEPCI Rives de Moselle et Maizières les Metz\nMATEC (Etablissement qui apporte une assistance technique à 700 collectivités et EPCI de Moselle) (leur carnet de RDVs est complet)\nSyndicat Mixte des Eaux de Rodalbe et Environs\nCommune de Basse Ham\nCommune de Hettange Grande\nCommune de Longeville les Metz\nCommune de Marly\nCommune de Montigny les Metz\nCommune de Rombas\nCommune de Volmerange les Mines\nCommune de Woippy\n\nLes inscriptions à cette rencontre sont closes.
URL:https://www.commandepublique-grandest.fr/evenement/rencontre-acheteurs-btp-moselle-2025/
LOCATION:Pôle BTP de Metz\, 3 rue Jean-Antoine Chaptal\, METZ (57)
CATEGORIES:Atelier,Conférence,Rencontre acheteurs
END:VEVENT
END:VCALENDAR