BEGIN:VCALENDAR
VERSION:2.0
PRODID:-//Réseau Commande Publique Grand Est - ECPv6.15.18//NONSGML v1.0//EN
CALSCALE:GREGORIAN
METHOD:PUBLISH
X-WR-CALNAME:Réseau Commande Publique Grand Est
X-ORIGINAL-URL:https://www.commandepublique-grandest.fr
X-WR-CALDESC:Évènements pour Réseau Commande Publique Grand Est
REFRESH-INTERVAL;VALUE=DURATION:PT1H
X-Robots-Tag:noindex
X-PUBLISHED-TTL:PT1H
BEGIN:VTIMEZONE
TZID:Europe/Paris
BEGIN:DAYLIGHT
TZOFFSETFROM:+0100
TZOFFSETTO:+0200
TZNAME:CEST
DTSTART:20220327T010000
END:DAYLIGHT
BEGIN:STANDARD
TZOFFSETFROM:+0200
TZOFFSETTO:+0100
TZNAME:CET
DTSTART:20221030T010000
END:STANDARD
BEGIN:DAYLIGHT
TZOFFSETFROM:+0100
TZOFFSETTO:+0200
TZNAME:CEST
DTSTART:20230326T010000
END:DAYLIGHT
BEGIN:STANDARD
TZOFFSETFROM:+0200
TZOFFSETTO:+0100
TZNAME:CET
DTSTART:20231029T010000
END:STANDARD
BEGIN:DAYLIGHT
TZOFFSETFROM:+0100
TZOFFSETTO:+0200
TZNAME:CEST
DTSTART:20240331T010000
END:DAYLIGHT
BEGIN:STANDARD
TZOFFSETFROM:+0200
TZOFFSETTO:+0100
TZNAME:CET
DTSTART:20241027T010000
END:STANDARD
END:VTIMEZONE
BEGIN:VEVENT
DTSTART;TZID=Europe/Paris:20230113T090000
DTEND;TZID=Europe/Paris:20230113T140000
DTSTAMP:20260420T095634
CREATED:20221123T100259Z
LAST-MODIFIED:20230731T141158Z
UID:5049-1673600400-1673618400@www.commandepublique-grandest.fr
SUMMARY:5ème Rencontre Bailleurs Sociaux #Alsace
DESCRIPTION:Les bailleurs sociaux alsaciens\,\nacteurs de la relance économique de la filière Bâtiment\nle vendredi 13 janvier 2023 de 9h00 à 14h00\nà la Chambre de Métiers d’Alsace\n30 Avenue de l’Europe à Schiltigheim (67300)\n  \nProgramme :\n9h00 : \nAccueil des participants\n9h30 : \nMot de bienvenue\n\nJean-Luc HOFFMANN\, Président de la Chambre de Métiers d’Alsace (ou son représentant)\n\n9h45 : \nIntervention du Président de l’AREAL\n\nEric PETER\, Président de l’AREAL\n\n10h00 : \nLes marchés publics face à la crise des matériaux : quelle adaptation ?\nRestitution de l’enquête sur les pratiques des bailleurs sociaux dans leurs marchés publics\, suite à l’augmentation des coûts de construction et de rénovation\n\nYann THEPOT\, Directeur de l’AREAL\n\nLes bonnes pratiques en matière de révision/actualisation\n\nCécilia KIEFFER\, Chargée de développement – Chambre de Métiers d’Alsace\nCatherine HEINZ\, Responsable achats – Batigere\n\nCrise des matériaux\, jeux d’acteurs et stratégies des organismes\n\nLéa GASNIER\, Conseillère juridique commande publique\, Union Sociale pour l’Habitat\n\n10h45 : \nPrésentation du Réseau Commande Publique Grand Est et de la Charte Régionale de la Commande Publique\n\nAlizée BOGUE\, Responsable du programme Commande Publique Grand Est- Grand E-Nov+\nJuliette LACROIX\, Chef de projet – Grand E-Nov+\n\nSéquence de signature de la Charte\n  \nA partir de 11h00 et jusqu’à 14h00 : \nRendez-vous individuels entre bailleurs sociaux et PME\nListe des bailleurs sociaux présents : \n\nAlsace Habitat\nBatigère Développement Grand Est\nFoyer Moderne\nHabitation Moderne\nHabitat de Haute-Alsace\nNeolia\nOphéa\nPôle Habitat Colmar Centre Alsace\nVilogia\n3F Grand Est\n\nAttention : les demandes de RDV seront confirmées sous réserve de validation par les bailleurs sociaux.  \n  \n12h00 – 14h00 : \nDéjeuner\n14h00 : \nFin de la rencontre\n  \nAction soutenue par le FEDER\, la Région Grand Est\, la Chambre de Métiers et de l’Artisanat Grand Est et la Chambre de Métiers d’Alsace dans le cadre du Pacte artisanat 2021-2023 et en partenariat avec Grand E-Nov+. \n  \nParticipation gratuite.\nLes inscriptions sont closes. \n  \nTélécharger le programme
URL:https://www.commandepublique-grandest.fr/evenement/rencontre-bailleurs-sociaux-alsace-5/
LOCATION:Chambre de Métiers d’Alsace à Schiltigheim\, 30 avenue de l'Europe\, SCHILTIGHEIM (67)\, 67300
CATEGORIES:Rencontre acheteurs
ORGANIZER;CN="Grand Est D%C3%A9veloppement":MAILTO:info@commandepublique-grandest.fr
END:VEVENT
END:VCALENDAR