BEGIN:VCALENDAR
VERSION:2.0
PRODID:-//Réseau Commande Publique Grand Est - ECPv6.15.18//NONSGML v1.0//EN
CALSCALE:GREGORIAN
METHOD:PUBLISH
X-WR-CALNAME:Réseau Commande Publique Grand Est
X-ORIGINAL-URL:https://www.commandepublique-grandest.fr
X-WR-CALDESC:Évènements pour Réseau Commande Publique Grand Est
REFRESH-INTERVAL;VALUE=DURATION:PT1H
X-Robots-Tag:noindex
X-PUBLISHED-TTL:PT1H
BEGIN:VTIMEZONE
TZID:Europe/Paris
BEGIN:DAYLIGHT
TZOFFSETFROM:+0100
TZOFFSETTO:+0200
TZNAME:CEST
DTSTART:20240331T010000
END:DAYLIGHT
BEGIN:STANDARD
TZOFFSETFROM:+0200
TZOFFSETTO:+0100
TZNAME:CET
DTSTART:20241027T010000
END:STANDARD
BEGIN:DAYLIGHT
TZOFFSETFROM:+0100
TZOFFSETTO:+0200
TZNAME:CEST
DTSTART:20250330T010000
END:DAYLIGHT
BEGIN:STANDARD
TZOFFSETFROM:+0200
TZOFFSETTO:+0100
TZNAME:CET
DTSTART:20251026T010000
END:STANDARD
BEGIN:DAYLIGHT
TZOFFSETFROM:+0100
TZOFFSETTO:+0200
TZNAME:CEST
DTSTART:20260329T010000
END:DAYLIGHT
BEGIN:STANDARD
TZOFFSETFROM:+0200
TZOFFSETTO:+0100
TZNAME:CET
DTSTART:20261025T010000
END:STANDARD
END:VTIMEZONE
BEGIN:VEVENT
DTSTART;TZID=Europe/Paris:20251210T130000
DTEND;TZID=Europe/Paris:20251210T163000
DTSTAMP:20260422T103704
CREATED:20250925T125116Z
LAST-MODIFIED:20251105T131156Z
UID:10251-1765371600-1765384200@www.commandepublique-grandest.fr
SUMMARY:Salon de l'achat public responsable #Alsace
DESCRIPTION:  \n  \nLes opportunités de marchés publics 2026 en Alsace !\n  \nVous êtes une entreprise\, un artisan\, un indépendant\, et vous vous demandez si le Salon de l’achat public responsable est fait pour vous ?\nLa réponse est oui. \nVous travaillez déjà avec le secteur public ?\nProfitez de cette occasion pour rencontrer les acheteurs publics\, échanger directement sur leurs besoins\, leurs projets à venir\, et anticiper les marchés publics en 2026. \nVous souhaitez vous lancer dans les marchés publics ?\nDes stands dédiés seront là pour répondre à vos questions\, vous guider et vous aider à franchir le pas en toute confiance. \n  \nPour sa 3ᵉ édition\, le Salon de l’achat public responsable s’agrandit et accueille encore plus d’acheteurs publics majeurs d’Alsace. \n  \nLes acheteurs publics et partenaires à rencontrer\n\nDécouvrir les opportunités de marchés en 2026\n\n\nCollectivité européenne d’Alsace\nArte\nCitivia\nCommunauté de Communes du Ried de Marckolsheim\nCTS (Compagnie des Transports Strasbourgeois)\nEurométropole et Ville de Strasbourg\nHabitats de Haute-Alsace\nMulhouse Alsace Agglomération\nSDEA (Syndicat des Eaux et de l’Assainissement Alsace-Moselle)\nSIS 67 (Services d’Incendie et de Secours du Bas-Rhin)\nSIS 68 (Services d’Incendie et de Secours du Haut-Rhin)\nUGAP – Centrale d’achat public\nVille de Mulhouse\nVille de Schiltigheim\n\nSe lancer dans les marchés publics\n\nAlsace Marchés Publics\nRéseau Commande Publique Grand Est\nADIRA (Agence de développement d’Alsace)\nCCI Alsace Eurométropole\nChambre de Métiers d’Alsace\nCRESS Grand Est (Chambre régionale de l’économie sociale et solidaire)\nGrand Est Développement\n\nComprendre et mettre en oeuvre les clauses sociales et d’insertion\n\nRelais 2D\nMEF68\nl’URSIEA (Union Régionale des Structures d’Insertion par l’Economique d’Alsace)\n\nS’informer sur la signature électronique\n\nCCI Alsace Eurométropole\nChambre de Métiers d’Alsace\n\n  \nLe 10 décembre 2025 de 13h00 à 16h30\, rendez-vous à l’Hôtel d’Alsace pour valoriser votre expertise et développer de nouvelles opportunités de collaboration. \n  \nInscrivez-vous gratuitement grâce au formulaire ci-dessous. \n 
URL:https://www.commandepublique-grandest.fr/evenement/salon-de-lachat-public-responsable-alsace-2025/
LOCATION:Hôtel d’Alsace\, Place du Quartier Blanc\, Strasbourg (67)
CATEGORIES:Salon
END:VEVENT
END:VCALENDAR