BEGIN:VCALENDAR
VERSION:2.0
PRODID:-//Réseau Commande Publique Grand Est - ECPv6.15.18//NONSGML v1.0//EN
CALSCALE:GREGORIAN
METHOD:PUBLISH
X-WR-CALNAME:Réseau Commande Publique Grand Est
X-ORIGINAL-URL:https://www.commandepublique-grandest.fr
X-WR-CALDESC:Évènements pour Réseau Commande Publique Grand Est
REFRESH-INTERVAL;VALUE=DURATION:PT1H
X-Robots-Tag:noindex
X-PUBLISHED-TTL:PT1H
BEGIN:VTIMEZONE
TZID:Europe/Paris
BEGIN:DAYLIGHT
TZOFFSETFROM:+0100
TZOFFSETTO:+0200
TZNAME:CEST
DTSTART:20210328T010000
END:DAYLIGHT
BEGIN:STANDARD
TZOFFSETFROM:+0200
TZOFFSETTO:+0100
TZNAME:CET
DTSTART:20211031T010000
END:STANDARD
BEGIN:DAYLIGHT
TZOFFSETFROM:+0100
TZOFFSETTO:+0200
TZNAME:CEST
DTSTART:20220327T010000
END:DAYLIGHT
BEGIN:STANDARD
TZOFFSETFROM:+0200
TZOFFSETTO:+0100
TZNAME:CET
DTSTART:20221030T010000
END:STANDARD
BEGIN:DAYLIGHT
TZOFFSETFROM:+0100
TZOFFSETTO:+0200
TZNAME:CEST
DTSTART:20230326T010000
END:DAYLIGHT
BEGIN:STANDARD
TZOFFSETFROM:+0200
TZOFFSETTO:+0100
TZNAME:CET
DTSTART:20231029T010000
END:STANDARD
END:VTIMEZONE
BEGIN:VEVENT
DTSTART;TZID=Europe/Paris:20220202T103000
DTEND;TZID=Europe/Paris:20220202T120000
DTSTAMP:20260420T100729
CREATED:20220110T110236Z
LAST-MODIFIED:20220119T094940Z
UID:3263-1643797800-1643803200@www.commandepublique-grandest.fr
SUMMARY:Webinaire "Comment répondre à un appel d'offres public ?"
DESCRIPTION:Webinaire à l’attention des entreprises artisanales \n\nQu’est-ce qu’un marché public ?\nComment constituer ma candidature (partie administrative de la réponse) ?\nComment rédiger mon mémoire technique (partie technique de la réponse) ?\n\nAvec un cas réel de mémoire technique\,\nRelecture possible de votre mémoire technique à l’issue du webinaire.\n\n\n\n 
URL:https://www.commandepublique-grandest.fr/evenement/webinaire-comment-repondre-a-un-appel-offres-public-crma/
CATEGORIES:Webinaire
ORGANIZER;CN="Chambre de M%C3%A9tiers et de l'Artisanat Grand Est":MAILTO:infocp@cma-grandest.fr
END:VEVENT
END:VCALENDAR