BEGIN:VCALENDAR
VERSION:2.0
PRODID:-//Réseau Commande Publique Grand Est - ECPv6.15.18//NONSGML v1.0//EN
CALSCALE:GREGORIAN
METHOD:PUBLISH
X-WR-CALNAME:Réseau Commande Publique Grand Est
X-ORIGINAL-URL:https://www.commandepublique-grandest.fr
X-WR-CALDESC:Évènements pour Réseau Commande Publique Grand Est
REFRESH-INTERVAL;VALUE=DURATION:PT1H
X-Robots-Tag:noindex
X-PUBLISHED-TTL:PT1H
BEGIN:VTIMEZONE
TZID:Europe/Paris
BEGIN:DAYLIGHT
TZOFFSETFROM:+0100
TZOFFSETTO:+0200
TZNAME:CEST
DTSTART:20210328T010000
END:DAYLIGHT
BEGIN:STANDARD
TZOFFSETFROM:+0200
TZOFFSETTO:+0100
TZNAME:CET
DTSTART:20211031T010000
END:STANDARD
BEGIN:DAYLIGHT
TZOFFSETFROM:+0100
TZOFFSETTO:+0200
TZNAME:CEST
DTSTART:20220327T010000
END:DAYLIGHT
BEGIN:STANDARD
TZOFFSETFROM:+0200
TZOFFSETTO:+0100
TZNAME:CET
DTSTART:20221030T010000
END:STANDARD
BEGIN:DAYLIGHT
TZOFFSETFROM:+0100
TZOFFSETTO:+0200
TZNAME:CEST
DTSTART:20230326T010000
END:DAYLIGHT
BEGIN:STANDARD
TZOFFSETFROM:+0200
TZOFFSETTO:+0100
TZNAME:CET
DTSTART:20231029T010000
END:STANDARD
END:VTIMEZONE
BEGIN:VEVENT
DTSTART;TZID=Europe/Paris:20220607T103000
DTEND;TZID=Europe/Paris:20220607T120000
DTSTAMP:20260420T114256
CREATED:20220530T093351Z
LAST-MODIFIED:20220530T095713Z
UID:4193-1654597800-1654603200@www.commandepublique-grandest.fr
SUMMARY:Webinaire « L’exécution des marchés publics : entre théorie et pratique… Comment éviter les "mauvaises surprises" ? »
DESCRIPTION:Dans un contexte contraint d’approvisionnement en énergie et en matières premières\, l’exécution d’un marché peut se révéler plus délicate que prévu… Allongement des délais d’exécution\, problèmes de trésorerie\, délai de traitement des demandes : ce contexte peut générer incompréhensions\, tensions et suspicions entre titulaires et acheteurs publics. Alors\, comment maintenir un dialogue efficace autour de l’exécution du marché ? \n« Quels conseils souhaitez-vous donner aux entreprises qui assistent à ce webinaire ? » : 3 acheteurs publics du Grand-Est vous feront bénéficier de leurs retours d’expériences et conseils pratiques pour maîtriser l’exécution de vos marchés publics dans ce contexte difficile. \nProgramme du webinaire :  \n\nRappel rapide du contexte et des actualités réglementaires\nRappel des leviers d’action à disposition des acheteurs publics dans ce contexte\nTable ronde des acheteurs publics autour de 3 grands temps : \n\nRetours d’expériences : Quelles solutions proposées aux entreprises qui vous ont sollicités ? Pourquoi ? Quelles difficultés rencontrées ?\nConseils : Quels conseils pour les entreprises en difficulté actuellement ? \nPerspectives : Quels enseignements pour l’avenir ? \n\n\nQuestion/réponses
URL:https://www.commandepublique-grandest.fr/evenement/webinaire-execution-des-marches-publics-comment-eviter-les-mauvaises-surprises/
CATEGORIES:Webinaire
ORGANIZER;CN="Chambre de M%C3%A9tiers et de l'Artisanat Grand Est":MAILTO:infocp@cma-grandest.fr
END:VEVENT
END:VCALENDAR