BEGIN:VCALENDAR
VERSION:2.0
PRODID:-//Réseau Commande Publique Grand Est - ECPv6.15.18//NONSGML v1.0//EN
CALSCALE:GREGORIAN
METHOD:PUBLISH
X-WR-CALNAME:Réseau Commande Publique Grand Est
X-ORIGINAL-URL:https://www.commandepublique-grandest.fr
X-WR-CALDESC:Évènements pour Réseau Commande Publique Grand Est
REFRESH-INTERVAL;VALUE=DURATION:PT1H
X-Robots-Tag:noindex
X-PUBLISHED-TTL:PT1H
BEGIN:VTIMEZONE
TZID:Europe/Paris
BEGIN:DAYLIGHT
TZOFFSETFROM:+0100
TZOFFSETTO:+0200
TZNAME:CEST
DTSTART:20210328T010000
END:DAYLIGHT
BEGIN:STANDARD
TZOFFSETFROM:+0200
TZOFFSETTO:+0100
TZNAME:CET
DTSTART:20211031T010000
END:STANDARD
BEGIN:DAYLIGHT
TZOFFSETFROM:+0100
TZOFFSETTO:+0200
TZNAME:CEST
DTSTART:20220327T010000
END:DAYLIGHT
BEGIN:STANDARD
TZOFFSETFROM:+0200
TZOFFSETTO:+0100
TZNAME:CET
DTSTART:20221030T010000
END:STANDARD
BEGIN:DAYLIGHT
TZOFFSETFROM:+0100
TZOFFSETTO:+0200
TZNAME:CEST
DTSTART:20230326T010000
END:DAYLIGHT
BEGIN:STANDARD
TZOFFSETFROM:+0200
TZOFFSETTO:+0100
TZNAME:CET
DTSTART:20231029T010000
END:STANDARD
END:VTIMEZONE
BEGIN:VEVENT
DTSTART;TZID=Europe/Paris:20220118T090000
DTEND;TZID=Europe/Paris:20220118T100000
DTSTAMP:20260420T095235
CREATED:20211118T144916Z
LAST-MODIFIED:20220112T082228Z
UID:190-1642496400-1642500000@www.commandepublique-grandest.fr
SUMMARY:Webinaire "Qu'est-ce qu'un marché public et comment y répondre ?"
DESCRIPTION:Dans le Grand Est\, près de 2000 marchés publics sont publiés chaque mois ! \n8000 acheteurs publics différents publient ces opportunités\, qui peuvent concerner les secteurs des travaux mais aussi des fournitures\, des services et des prestations intellectuelles \nApprocher les marchés publics\, c’est ouvrir de nouvelles opportunités à votre entreprise ! \nPour trouver des marchés pertinents\, comprendre les procédures qui s’appliquent\, les méthodes de lecture des dossiers de consultation et les astuces pour répondre sans perdre de temps\, nous vous invitons à participer à ce webinaire. \n \n  \n  \nIntervenant :\n \nMartí BERENGUER\nChef de projet\nPôle Commande Publique Grand Est\nGrand E-Nov+ \n  \n  \n  \nDéroulement de ce webinaire : 45 min de présentation + 15 minutes de questions-réponses \nLa participation est gratuite mais l’inscription obligatoire ci-dessous.
URL:https://www.commandepublique-grandest.fr/evenement/webinaire-marche-public-comment-repondre/
CATEGORIES:Webinaire
ATTACH;FMTTYPE=image/png:https://www.commandepublique-grandest.fr/wp-content/uploads/2021/11/APOGE-435x330-Clauses-administratives.png
END:VEVENT
END:VCALENDAR