BEGIN:VCALENDAR
VERSION:2.0
PRODID:-//Réseau Commande Publique Grand Est - ECPv6.15.18//NONSGML v1.0//EN
CALSCALE:GREGORIAN
METHOD:PUBLISH
X-WR-CALNAME:Réseau Commande Publique Grand Est
X-ORIGINAL-URL:https://www.commandepublique-grandest.fr
X-WR-CALDESC:Évènements pour Réseau Commande Publique Grand Est
REFRESH-INTERVAL;VALUE=DURATION:PT1H
X-Robots-Tag:noindex
X-PUBLISHED-TTL:PT1H
BEGIN:VTIMEZONE
TZID:Europe/Paris
BEGIN:DAYLIGHT
TZOFFSETFROM:+0100
TZOFFSETTO:+0200
TZNAME:CEST
DTSTART:20220327T010000
END:DAYLIGHT
BEGIN:STANDARD
TZOFFSETFROM:+0200
TZOFFSETTO:+0100
TZNAME:CET
DTSTART:20221030T010000
END:STANDARD
BEGIN:DAYLIGHT
TZOFFSETFROM:+0100
TZOFFSETTO:+0200
TZNAME:CEST
DTSTART:20230326T010000
END:DAYLIGHT
BEGIN:STANDARD
TZOFFSETFROM:+0200
TZOFFSETTO:+0100
TZNAME:CET
DTSTART:20231029T010000
END:STANDARD
BEGIN:DAYLIGHT
TZOFFSETFROM:+0100
TZOFFSETTO:+0200
TZNAME:CEST
DTSTART:20240331T010000
END:DAYLIGHT
BEGIN:STANDARD
TZOFFSETFROM:+0200
TZOFFSETTO:+0100
TZNAME:CET
DTSTART:20241027T010000
END:STANDARD
END:VTIMEZONE
BEGIN:VEVENT
DTSTART;TZID=Europe/Paris:20230307T110000
DTEND;TZID=Europe/Paris:20230307T120000
DTSTAMP:20260420T043129
CREATED:20220811T113548Z
LAST-MODIFIED:20230220T105314Z
UID:5368-1678186800-1678190400@www.commandepublique-grandest.fr
SUMMARY:Webinaire « Marchés publics : des opportunités pour mon activité »
DESCRIPTION:  \n\nQu’est-ce qu’un marché public ?\nQuelles opportunités pour mon activité ?\nPour les TPE/PME ou jeunes entreprises ?\nComment me faire connaître des acheteurs publics ?\nComment s’organise la réponse à un appel d’offres ?
URL:https://www.commandepublique-grandest.fr/evenement/webinaire-marches-publics-des-opportunites-pour-mon-activite-2023-03/
CATEGORIES:Webinaire
ORGANIZER;CN="Chambre de M%C3%A9tiers et de l'Artisanat Grand Est":MAILTO:infocp@cma-grandest.fr
END:VEVENT
END:VCALENDAR