BEGIN:VCALENDAR
VERSION:2.0
PRODID:-//Réseau Commande Publique Grand Est - ECPv6.15.18//NONSGML v1.0//EN
CALSCALE:GREGORIAN
METHOD:PUBLISH
X-WR-CALNAME:Réseau Commande Publique Grand Est
X-ORIGINAL-URL:https://www.commandepublique-grandest.fr
X-WR-CALDESC:Évènements pour Réseau Commande Publique Grand Est
REFRESH-INTERVAL;VALUE=DURATION:PT1H
X-Robots-Tag:noindex
X-PUBLISHED-TTL:PT1H
BEGIN:VTIMEZONE
TZID:Europe/Paris
BEGIN:DAYLIGHT
TZOFFSETFROM:+0100
TZOFFSETTO:+0200
TZNAME:CEST
DTSTART:20210328T010000
END:DAYLIGHT
BEGIN:STANDARD
TZOFFSETFROM:+0200
TZOFFSETTO:+0100
TZNAME:CET
DTSTART:20211031T010000
END:STANDARD
BEGIN:DAYLIGHT
TZOFFSETFROM:+0100
TZOFFSETTO:+0200
TZNAME:CEST
DTSTART:20220327T010000
END:DAYLIGHT
BEGIN:STANDARD
TZOFFSETFROM:+0200
TZOFFSETTO:+0100
TZNAME:CET
DTSTART:20221030T010000
END:STANDARD
BEGIN:DAYLIGHT
TZOFFSETFROM:+0100
TZOFFSETTO:+0200
TZNAME:CEST
DTSTART:20230326T010000
END:DAYLIGHT
BEGIN:STANDARD
TZOFFSETFROM:+0200
TZOFFSETTO:+0100
TZNAME:CET
DTSTART:20231029T010000
END:STANDARD
END:VTIMEZONE
BEGIN:VEVENT
DTSTART;TZID=Europe/Paris:20220614T110000
DTEND;TZID=Europe/Paris:20220614T120000
DTSTAMP:20260420T100807
CREATED:20220504T080040Z
LAST-MODIFIED:20220504T085920Z
UID:3934-1655204400-1655208000@www.commandepublique-grandest.fr
SUMMARY:Webinaire "Comment me faire connaître des acheteurs publics pour remporter des marchés ?"
DESCRIPTION:Webinaire à l’attention des entreprises artisanales \n\nPourquoi me faire connaître des acheteurs publics ?\nComment préparer et solliciter un rendez-vous ?\nQuels supports de communication prévoir ?\nQuels arguments privilégier pour répondre aux attentes d’un acheteur public ?
URL:https://www.commandepublique-grandest.fr/evenement/webinaire-me-faire-connaitre-des-acheteurs-publics/
CATEGORIES:Webinaire
ORGANIZER;CN="Chambre de M%C3%A9tiers et de l'Artisanat Grand Est":MAILTO:infocp@cma-grandest.fr
END:VEVENT
END:VCALENDAR