BEGIN:VCALENDAR
VERSION:2.0
PRODID:-//Réseau Commande Publique Grand Est - ECPv6.15.18//NONSGML v1.0//EN
CALSCALE:GREGORIAN
METHOD:PUBLISH
X-WR-CALNAME:Réseau Commande Publique Grand Est
X-ORIGINAL-URL:https://www.commandepublique-grandest.fr
X-WR-CALDESC:Évènements pour Réseau Commande Publique Grand Est
REFRESH-INTERVAL;VALUE=DURATION:PT1H
X-Robots-Tag:noindex
X-PUBLISHED-TTL:PT1H
BEGIN:VTIMEZONE
TZID:Europe/Paris
BEGIN:DAYLIGHT
TZOFFSETFROM:+0100
TZOFFSETTO:+0200
TZNAME:CEST
DTSTART:20210328T010000
END:DAYLIGHT
BEGIN:STANDARD
TZOFFSETFROM:+0200
TZOFFSETTO:+0100
TZNAME:CET
DTSTART:20211031T010000
END:STANDARD
BEGIN:DAYLIGHT
TZOFFSETFROM:+0100
TZOFFSETTO:+0200
TZNAME:CEST
DTSTART:20220327T010000
END:DAYLIGHT
BEGIN:STANDARD
TZOFFSETFROM:+0200
TZOFFSETTO:+0100
TZNAME:CET
DTSTART:20221030T010000
END:STANDARD
BEGIN:DAYLIGHT
TZOFFSETFROM:+0100
TZOFFSETTO:+0200
TZNAME:CEST
DTSTART:20230326T010000
END:DAYLIGHT
BEGIN:STANDARD
TZOFFSETFROM:+0200
TZOFFSETTO:+0100
TZNAME:CET
DTSTART:20231029T010000
END:STANDARD
END:VTIMEZONE
BEGIN:VEVENT
DTSTART;TZID=Europe/Paris:20220222T090000
DTEND;TZID=Europe/Paris:20220222T101500
DTSTAMP:20260420T101000
CREATED:20211202T080037Z
LAST-MODIFIED:20220112T083116Z
UID:2002-1645520400-1645524900@www.commandepublique-grandest.fr
SUMMARY:Webinaire "Transmettre vos factures avec Chorus Pro"
DESCRIPTION:Depuis le 1er janvier 2020\, la transmission des factures sur le portail Chorus Pro est devenue obligatoire pour toutes les entreprises fournisseurs du secteur public (État\, collectivités locales\, hôpitaux\, établissements publics\, etc)\, quelle que soit leur taille \nAfin d’utiliser la facturation électronique\, l’entreprise doit créer un compte sur la plateforme Chorus Pro. \nCet outil permet de : \n\nDéposer ou saisir une facture ;\nSuivre le traitement de ses factures ;\nAjouter des pièces complémentaires nécessaires au traitement de sa facture\n\nPour comprendre comment créer un compte et bien utiliser cet outil\, nous vous invitons à vous inscrire à ce webinaire. \nL’intervenant proposera une démonstration et répondra à vos questions. \n \n  \n  \nIntervenant :\n \nStéphane PASTOR\nChef de projet\nPôle Commande Publique Grand Est\nGrand E-Nov+ \n  \n  \n  \n\n\nDéroulement de ce webinaire : 1 heure 15 min de présentation + 15 minutes de questions-réponses \nLa participation est gratuite mais l’inscription obligatoire ci-dessous.
URL:https://www.commandepublique-grandest.fr/evenement/webinaire-transmettre-vos-factures-avec-chorus-pro/
CATEGORIES:Webinaire
END:VEVENT
END:VCALENDAR